{
 "currentVersion": 10.91,
 "cimVersion": "2.9.0",
 "serviceDescription": "",
 "mapName": "Fond de plan - Scan Orthophoto Actuelle",
 "description": "",
 "copyrightText": "",
 "supportsDynamicLayers": false,
 "layers": [
  {
   "id": 0,
   "name": "Orthophoto 2019",
   "parentLayerId": -1,
   "defaultVisibility": true,
   "subLayerIds": null,
   "minScale": 8000,
   "maxScale": 0,
   "type": "Feature Layer",
   "geometryType": "esriGeometryPolygon",
   "supportsDynamicLegends": true
  },
  {
   "id": 7,
   "name": "Scan 25",
   "parentLayerId": -1,
   "defaultVisibility": true,
   "subLayerIds": null,
   "minScale": 25000,
   "maxScale": 8000,
   "type": "Feature Layer",
   "geometryType": "esriGeometryPolygon",
   "supportsDynamicLegends": true
  },
  {
   "id": 8,
   "name": "Scan 50",
   "parentLayerId": -1,
   "defaultVisibility": true,
   "subLayerIds": null,
   "minScale": 50000,
   "maxScale": 25000,
   "type": "Feature Layer",
   "geometryType": "esriGeometryPolygon",
   "supportsDynamicLegends": true
  },
  {
   "id": 5,
   "name": "France Raster 0100k",
   "parentLayerId": -1,
   "defaultVisibility": true,
   "subLayerIds": null,
   "minScale": 120000,
   "maxScale": 50000,
   "type": "Feature Layer",
   "geometryType": "esriGeometryPolygon",
   "supportsDynamicLegends": true
  },
  {
   "id": 6,
   "name": "France Raster 0250k",
   "parentLayerId": -1,
   "defaultVisibility": true,
   "subLayerIds": null,
   "minScale": 0,
   "maxScale": 120000,
   "type": "Feature Layer",
   "geometryType": "esriGeometryPolygon",
   "supportsDynamicLegends": true
  }
 ],
 "tables": [],
 "spatialReference": {
  "wkid": 102110,
  "latestWkid": 2154,
  "xyTolerance": 0.001,
  "zTolerance": 0.001,
  "mTolerance": 0.001,
  "falseX": -35597500,
  "falseY": -23641900,
  "xyUnits": 10000,
  "falseZ": -100000,
  "zUnits": 10000,
  "falseM": -100000,
  "mUnits": 10000
 },
 "singleFusedMapCache": true,
 "tileInfo": {
  "rows": 512,
  "cols": 512,
  "dpi": 96,
  "format": "MIXED",
  "compressionQuality": 75,
  "origin": {
   "x": 470000,
   "y": 6430000
  },
  "spatialReference": {
   "wkid": 102110,
   "latestWkid": 2154,
   "xyTolerance": 0.001,
   "zTolerance": 0.001,
   "mTolerance": 0.001,
   "falseX": -35597500,
   "falseY": -23641900,
   "xyUnits": 1.2407465052332792E8,
   "falseZ": -100000,
   "zUnits": 10000,
   "falseM": -100000,
   "mUnits": 10000
  },
  "lods": [
   {
    "level": 0,
    "resolution": 529.1677250021168,
    "scale": 2000000
   },
   {
    "level": 1,
    "resolution": 264.5838625010584,
    "scale": 1000000
   },
   {
    "level": 2,
    "resolution": 79.37515875031751,
    "scale": 300000
   },
   {
    "level": 3,
    "resolution": 39.42299551265769,
    "scale": 149000
   },
   {
    "level": 4,
    "resolution": 24.07713148759631,
    "scale": 91000
   },
   {
    "level": 5,
    "resolution": 16.13961561256456,
    "scale": 61000
   },
   {
    "level": 6,
    "resolution": 10.318770637541276,
    "scale": 39000
   },
   {
    "level": 7,
    "resolution": 2.910422487511642,
    "scale": 11000
   },
   {
    "level": 8,
    "resolution": 1.3229193125052918,
    "scale": 5000
   },
   {
    "level": 9,
    "resolution": 0.6614596562526459,
    "scale": 2500
   },
   {
    "level": 10,
    "resolution": 0.26458386250105836,
    "scale": 1000
   },
   {
    "level": 11,
    "resolution": 0.13229193125052918,
    "scale": 500
   }
  ]
 },
 "storageInfo": {
  "storageFormat": "esriMapCacheStorageModeCompactV2",
  "packetSize": 128
 },
 "initialExtent": {
  "xmin": -48164.461926108226,
  "ymin": 5972491.490880874,
  "xmax": 1388164.4619261082,
  "ymax": 7187508.509119126,
  "spatialReference": {
   "wkid": 102110,
   "latestWkid": 2154,
   "xyTolerance": 0.001,
   "zTolerance": 0.001,
   "mTolerance": 0.001,
   "falseX": -35597500,
   "falseY": -23641900,
   "xyUnits": 10000,
   "falseZ": -100000,
   "zUnits": 10000,
   "falseM": -100000,
   "mUnits": 10000
  }
 },
 "fullExtent": {
  "xmin": 40000,
  "ymin": 5950000,
  "xmax": 1440000,
  "ymax": 7150000,
  "spatialReference": {
   "wkid": 102110,
   "latestWkid": 2154,
   "xyTolerance": 0.001,
   "zTolerance": 0.001,
   "mTolerance": 0.001,
   "falseX": -35597500,
   "falseY": -23641900,
   "xyUnits": 10000,
   "falseZ": -100000,
   "zUnits": 10000,
   "falseM": -100000,
   "mUnits": 10000
  }
 },
 "datesInUnknownTimezone": false,
 "minScale": 2000000,
 "maxScale": 500,
 "units": "esriMeters",
 "supportedImageFormatTypes": "PNG32,PNG24,PNG,JPG,DIB,TIFF,EMF,PS,PDF,GIF,SVG,SVGZ,BMP",
 "documentInfo": {
  "Title": "Carte",
  "Author": "",
  "Comments": "",
  "Subject": "",
  "Category": "",
  "AntialiasingMode": "Fast",
  "TextAntialiasingMode": "Force",
  "Version": "2.9.0",
  "Keywords": "Scan Orthophoto Actuelle"
 },
 "capabilities": "Map",
 "supportedQueryFormats": "JSON, geoJSON, PBF",
 "exportTilesAllowed": false,
 "referenceScale": 0.0,
 "supportsDatumTransformation": true,
 "archivingInfo": {
  "supportsHistoricMoment": false
 },
 "supportsClipping": true,
 "supportsSpatialFilter": true,
 "supportsTimeRelation": true,
 "supportsQueryDataElements": true,
 "maxRecordCount": 2000,
 "maxImageHeight": 4096,
 "maxImageWidth": 4096,
 "supportedExtensions": "",
 "resampling": false,
 "serviceItemId": "c5263764b80b444fb639d79cc393c3a2"
}
